BEGIN:VCALENDAR
VERSION:2.0
PRODID:-//Mississippi Theatre Association - ECPv6.15.12.2//NONSGML v1.0//EN
CALSCALE:GREGORIAN
METHOD:PUBLISH
X-WR-CALNAME:Mississippi Theatre Association
X-ORIGINAL-URL:https://mississippitheatre.org
X-WR-CALDESC:Events for Mississippi Theatre Association
REFRESH-INTERVAL;VALUE=DURATION:PT1H
X-Robots-Tag:noindex
X-PUBLISHED-TTL:PT1H
BEGIN:VTIMEZONE
TZID:America/Chicago
BEGIN:DAYLIGHT
TZOFFSETFROM:-0600
TZOFFSETTO:-0500
TZNAME:CDT
DTSTART:20230312T080000
END:DAYLIGHT
BEGIN:STANDARD
TZOFFSETFROM:-0500
TZOFFSETTO:-0600
TZNAME:CST
DTSTART:20231105T070000
END:STANDARD
BEGIN:DAYLIGHT
TZOFFSETFROM:-0600
TZOFFSETTO:-0500
TZNAME:CDT
DTSTART:20240310T080000
END:DAYLIGHT
BEGIN:STANDARD
TZOFFSETFROM:-0500
TZOFFSETTO:-0600
TZNAME:CST
DTSTART:20241103T070000
END:STANDARD
BEGIN:DAYLIGHT
TZOFFSETFROM:-0600
TZOFFSETTO:-0500
TZNAME:CDT
DTSTART:20250309T080000
END:DAYLIGHT
BEGIN:STANDARD
TZOFFSETFROM:-0500
TZOFFSETTO:-0600
TZNAME:CST
DTSTART:20251102T070000
END:STANDARD
END:VTIMEZONE
BEGIN:VEVENT
DTSTART;TZID=America/Chicago:20240913T080000
DTEND;TZID=America/Chicago:20241001T170000
DTSTAMP:20260418T085956
CREATED:20240906T140410Z
LAST-MODIFIED:20240909T143236Z
UID:4716-1726214400-1727802000@mississippitheatre.org
SUMMARY:Submit Your DramaFest Letter of Intent
DESCRIPTION:DramaFest Letter of Intent\n\n\n\nGet ready to fill out your DramaFest 2024 Letter of Intent. We will be open to receive submissions starting September 13\, 2024 at 8:00 a.m. By submitting this form\, you indicate your intention to register as a performing school at a Mississippi Regional DramaFest this year. \n\n\n\n\nhttps://www.jotform.com/form/241965575876173
URL:https://mississippitheatre.org/event/submit-your-dramafest-letter-of-intent-2/
END:VEVENT
BEGIN:VEVENT
DTSTART;TZID=America/Chicago:20240919T000000
DTEND;TZID=America/Chicago:20240919T235959
DTSTAMP:20260418T085956
CREATED:20240827T180732Z
LAST-MODIFIED:20240827T181820Z
UID:4669-1726704000-1726790399@mississippitheatre.org
SUMMARY:Tennessee Williams Festival: Intent to Participate Form
DESCRIPTION:Intent to Participate Form Due for MS Delta Tennessee Williams Festival Student Drama Competition\n\n\n\n\n\n\n\n\n\nOn behalf of the Mississippi Delta Tennessee Williams Festival (MDTWF) held every October in Clarksdale\, Mississippi\, you are invited to participate in our annual Student Drama Competition to be held on Saturday\, October 19\, 2023\, starting at 9 AM at the Coahoma County Higher Education Center/Cutrer Mansion\, 109 Clark Street\, Clarksdale. \n\n\n\nRead the latest copy of the Invitation to Participate \n\n\n\nThe Invitiation to Perform & Registration forms can be found HERE. The Intent to Participate form is due back to us on Thursday\, September 19\, 2024 and the Registration is due back on Tuesday\, October 1\, 2024 . \n\n\n\nThe material performed must be from a Tennessee Williams play (full-length or one-act). Students are judged on acting ability\, movement\, voice (such as how audible and articulate they are)\, memorization and stage presence. The form and this letter should give you all of the information that you need to know to participate\, but feel free to reach out to me if you need any additional information. \n\n\n\nIn closing\, please know that we have a wonderful and impactful weekend planned that I know you will enjoy; however\, we do not have our schedule posted yet. We are still finalizing the details and hope to have it up on our website by September 1\, 2023. To receive email updates and see additional information on festivals past\, go to our festival website\, https://deltawilliamsfestival.com/. \n\n\n\nThank you for all the work that you do every single day for students around the great State of Mississippi. I look forward to hearing from you soon. \n\n\n\nVery best regards\, \n\n\n\nJen Waller\, Director
URL:https://mississippitheatre.org/event/tennessee-williams-festival-intent-to-participate-form/
END:VEVENT
BEGIN:VEVENT
DTSTART;TZID=America/Chicago:20240920T120000
DTEND;TZID=America/Chicago:20240920T170000
DTSTAMP:20260418T085956
CREATED:20240812T162131Z
LAST-MODIFIED:20240813T022041Z
UID:4606-1726833600-1726851600@mississippitheatre.org
SUMMARY:MTA Fall Workshop
DESCRIPTION:A full schedule will be posted prior to the workshop\, but here is a list of some of the sessions! \n\n\n\nhttps://mississippitheatre.ludus.com/show_page.php?show_id=200460426 \n\n\n\nIf you are traveling for the MTA workshop\, make sure to use this link to book your hotel at the special group rate (Last Day to Book: Friday\, September 6\, 2024): https://www.marriott.com/event-reservations/reservation-link.mi?id=1723481804543&key=GRP&app=resvlink
URL:https://mississippitheatre.org/event/mta-fall-workshop/
ATTACH;FMTTYPE=image/png:https://mississippitheatre.org/wp-content/uploads/2024/08/Screenshot-2024-08-12-at-10.53.43-AM.png
END:VEVENT
BEGIN:VEVENT
DTSTART;TZID=America/Chicago:20240921T083000
DTEND;TZID=America/Chicago:20240921T163000
DTSTAMP:20260418T085956
CREATED:20240812T162449Z
LAST-MODIFIED:20240919T173934Z
UID:4611-1726907400-1726936200@mississippitheatre.org
SUMMARY:MTA Fall Workshop
DESCRIPTION:A full schedule will posted prior to the workshop\, but here is a list of some of the sessions!https://mississippitheatre.ludus.com/show_page.php?show_id=200460426 \n\n\n\nIf you are traveling for the MTA workshop\, make sure to use this link to book your hotel at the special group rate (Last Day to Book: Friday\, September 6\, 2024): https://www.marriott.com/event-reservations/reservation-link.mi?id=1723481804543&key=GRP&app=resvlink
URL:https://mississippitheatre.org/event/4611/
ATTACH;FMTTYPE=image/jpeg:https://mississippitheatre.org/wp-content/uploads/2024/08/459175053_917831407055036_2592033939177487594_n-1.jpg
END:VEVENT
BEGIN:VEVENT
DTSTART;TZID=America/Chicago:20240923T000000
DTEND;TZID=America/Chicago:20241115T235959
DTSTAMP:20260418T085956
CREATED:20240905T152455Z
LAST-MODIFIED:20240921T151625Z
UID:4699-1727049600-1731715199@mississippitheatre.org
SUMMARY:Theatre for Youth Registration NOW OPEN!
DESCRIPTION:🎉 The wait is over! 🎉 \n\n\n\nTheatre for Youth registration is NOW OPEN for the 2024 Mississippi Theatre Association Festival! 📝✨ Ready to join us? Click the link below to secure your spot: \n\n\n\nTheatre for Youth Registration \n\n\n\nDon’t wait—register now and be part of this amazing event! 🎭Spots fill up quick so make sure to secure yours! \n\n\n\nTheatre For Youth Letter
URL:https://mississippitheatre.org/event/theatre-for-youth-letter-of-intent/
END:VEVENT
END:VCALENDAR