BEGIN:VCALENDAR
VERSION:2.0
PRODID:-//Mississippi Theatre Association - ECPv6.15.12.2//NONSGML v1.0//EN
CALSCALE:GREGORIAN
METHOD:PUBLISH
X-ORIGINAL-URL:https://mississippitheatre.org
X-WR-CALDESC:Events for Mississippi Theatre Association
REFRESH-INTERVAL;VALUE=DURATION:PT1H
X-Robots-Tag:noindex
X-PUBLISHED-TTL:PT1H
BEGIN:VTIMEZONE
TZID:America/Chicago
BEGIN:DAYLIGHT
TZOFFSETFROM:-0600
TZOFFSETTO:-0500
TZNAME:CDT
DTSTART:20240310T080000
END:DAYLIGHT
BEGIN:STANDARD
TZOFFSETFROM:-0500
TZOFFSETTO:-0600
TZNAME:CST
DTSTART:20241103T070000
END:STANDARD
BEGIN:DAYLIGHT
TZOFFSETFROM:-0600
TZOFFSETTO:-0500
TZNAME:CDT
DTSTART:20250309T080000
END:DAYLIGHT
BEGIN:STANDARD
TZOFFSETFROM:-0500
TZOFFSETTO:-0600
TZNAME:CST
DTSTART:20251102T070000
END:STANDARD
BEGIN:DAYLIGHT
TZOFFSETFROM:-0600
TZOFFSETTO:-0500
TZNAME:CDT
DTSTART:20260308T080000
END:DAYLIGHT
BEGIN:STANDARD
TZOFFSETFROM:-0500
TZOFFSETTO:-0600
TZNAME:CST
DTSTART:20261101T070000
END:STANDARD
END:VTIMEZONE
BEGIN:VEVENT
DTSTART;TZID=America/Chicago:20250508T190000
DTEND;TZID=America/Chicago:20250510T140000
DTSTAMP:20260424T000330
CREATED:20250421T224712Z
LAST-MODIFIED:20250429T225236Z
UID:5244-1746730800-1746885600@mississippitheatre.org
SUMMARY:Tupelo Community Theatre: The Guys
DESCRIPTION:
URL:https://mississippitheatre.org/event/tupelo-community-theatre-the-guys/
ATTACH;FMTTYPE=image/jpeg:https://mississippitheatre.org/wp-content/uploads/2025/04/490988658_1726443548227625_6608393009485085867_n.jpg
END:VEVENT
BEGIN:VEVENT
DTSTART;TZID=America/Chicago:20250510T090000
DTEND;TZID=America/Chicago:20250510T160000
DTSTAMP:20260424T000330
CREATED:20250417T171403Z
LAST-MODIFIED:20250429T220749Z
UID:5201-1746867600-1746892800@mississippitheatre.org
SUMMARY:May MTA Board Meeting
DESCRIPTION:New Stage Theatre1100 Carlisle St\, Jackson\, MS 39202
URL:https://mississippitheatre.org/event/may-mta-board-meeting/
ATTACH;FMTTYPE=image/png:https://mississippitheatre.org/wp-content/uploads/2025/04/MTA-Facebook-2.png
END:VEVENT
BEGIN:VEVENT
DTSTART;TZID=America/Chicago:20250510T183000
DTEND;TZID=America/Chicago:20250510T210000
DTSTAMP:20260424T000330
CREATED:20250429T210440Z
LAST-MODIFIED:20250429T210445Z
UID:5264-1746901800-1746910800@mississippitheatre.org
SUMMARY:The Odd Couple: Gautier High School
DESCRIPTION:
URL:https://mississippitheatre.org/event/the-odd-couple-gautier-high-school/
ATTACH;FMTTYPE=image/jpeg:https://mississippitheatre.org/wp-content/uploads/2025/04/494357641_1032923394836021_4071857442619140322_n.jpg
END:VEVENT
END:VCALENDAR