BEGIN:VCALENDAR
VERSION:2.0
PRODID:-//Mississippi Theatre Association - ECPv6.15.12.2//NONSGML v1.0//EN
CALSCALE:GREGORIAN
METHOD:PUBLISH
X-ORIGINAL-URL:https://mississippitheatre.org
X-WR-CALDESC:Events for Mississippi Theatre Association
REFRESH-INTERVAL;VALUE=DURATION:PT1H
X-Robots-Tag:noindex
X-PUBLISHED-TTL:PT1H
BEGIN:VTIMEZONE
TZID:America/Chicago
BEGIN:DAYLIGHT
TZOFFSETFROM:-0600
TZOFFSETTO:-0500
TZNAME:CDT
DTSTART:20240310T080000
END:DAYLIGHT
BEGIN:STANDARD
TZOFFSETFROM:-0500
TZOFFSETTO:-0600
TZNAME:CST
DTSTART:20241103T070000
END:STANDARD
BEGIN:DAYLIGHT
TZOFFSETFROM:-0600
TZOFFSETTO:-0500
TZNAME:CDT
DTSTART:20250309T080000
END:DAYLIGHT
BEGIN:STANDARD
TZOFFSETFROM:-0500
TZOFFSETTO:-0600
TZNAME:CST
DTSTART:20251102T070000
END:STANDARD
BEGIN:DAYLIGHT
TZOFFSETFROM:-0600
TZOFFSETTO:-0500
TZNAME:CDT
DTSTART:20260308T080000
END:DAYLIGHT
BEGIN:STANDARD
TZOFFSETFROM:-0500
TZOFFSETTO:-0600
TZNAME:CST
DTSTART:20261101T070000
END:STANDARD
END:VTIMEZONE
BEGIN:VEVENT
DTSTART;TZID=America/Chicago:20250501T193000
DTEND;TZID=America/Chicago:20250504T143000
DTSTAMP:20260423T191900
CREATED:20250421T190921Z
LAST-MODIFIED:20250421T230540Z
UID:5239-1746127800-1746369000@mississippitheatre.org
SUMMARY:Starkville High School: Tarzan
DESCRIPTION:
URL:https://mississippitheatre.org/event/starkville-high-school-tarzan/
ATTACH;FMTTYPE=image/jpeg:https://mississippitheatre.org/wp-content/uploads/2025/04/491351998_3678819435741596_6309237756072905375_n.jpg
END:VEVENT
BEGIN:VEVENT
DTSTART;TZID=America/Chicago:20250502T190000
DTEND;TZID=America/Chicago:20250504T190000
DTSTAMP:20260423T191900
CREATED:20250422T182152Z
LAST-MODIFIED:20250422T182155Z
UID:5260-1746212400-1746385200@mississippitheatre.org
SUMMARY:Neshoba Central High School: Chicago Teen Edition
DESCRIPTION:
URL:https://mississippitheatre.org/event/neshoba-central-high-school-chicago-teen-edition/
ATTACH;FMTTYPE=image/jpeg:https://mississippitheatre.org/wp-content/uploads/2025/04/485686151_2074694249661406_5207687080407223771_n.jpg
END:VEVENT
END:VCALENDAR