BEGIN:VCALENDAR
VERSION:2.0
PRODID:-//Mississippi Theatre Association - ECPv6.15.12.2//NONSGML v1.0//EN
CALSCALE:GREGORIAN
METHOD:PUBLISH
X-ORIGINAL-URL:https://mississippitheatre.org
X-WR-CALDESC:Events for Mississippi Theatre Association
REFRESH-INTERVAL;VALUE=DURATION:PT1H
X-Robots-Tag:noindex
X-PUBLISHED-TTL:PT1H
BEGIN:VTIMEZONE
TZID:America/Chicago
BEGIN:DAYLIGHT
TZOFFSETFROM:-0600
TZOFFSETTO:-0500
TZNAME:CDT
DTSTART:20240310T080000
END:DAYLIGHT
BEGIN:STANDARD
TZOFFSETFROM:-0500
TZOFFSETTO:-0600
TZNAME:CST
DTSTART:20241103T070000
END:STANDARD
BEGIN:DAYLIGHT
TZOFFSETFROM:-0600
TZOFFSETTO:-0500
TZNAME:CDT
DTSTART:20250309T080000
END:DAYLIGHT
BEGIN:STANDARD
TZOFFSETFROM:-0500
TZOFFSETTO:-0600
TZNAME:CST
DTSTART:20251102T070000
END:STANDARD
BEGIN:DAYLIGHT
TZOFFSETFROM:-0600
TZOFFSETTO:-0500
TZNAME:CDT
DTSTART:20260308T080000
END:DAYLIGHT
BEGIN:STANDARD
TZOFFSETFROM:-0500
TZOFFSETTO:-0600
TZNAME:CST
DTSTART:20261101T070000
END:STANDARD
END:VTIMEZONE
BEGIN:VEVENT
DTSTART;TZID=America/Chicago:20250116T123000
DTEND;TZID=America/Chicago:20250119T140000
DTSTAMP:20260419T054400
CREATED:20240530T012443Z
LAST-MODIFIED:20250105T002652Z
UID:4248-1737030600-1737295200@mississippitheatre.org
SUMMARY:MTA Meridian Masquerade at the MSU Riley Center
DESCRIPTION:Our annual theatre festival will be held in Meridian at the MSU Riley Center. Over 900 participants engage in theatrical competitions\, workshops\, and much more! \n\n\n\nThe Riley Center\, also known as the Grand Opera House and formally as the Mississippi State University Riley Center for Education and Performing Arts\, is a performing arts and conference center in Meridian\, Mississippi. It was added to the National Register of Historic Places in 1972.  \n\n\n\nThe TENTATIVE SCHEDULE is HERE! \n\n\n\nTickets for the public will be available for purchase at the registration desk located in the Grand Lobby of the MSU Riley Center. Tickets for the public will be available at the registration desk in the Grand Lobby of the MSU Riley Center. Festival Passes will be available for $25 for the weekend. This will include play passes and workshops only. This pass does not include adult or youth socials.  \n\n\n\nDay Passes/Block Passes will be available for $10 per day. This will include play passes and workshops only. This pass does not include adult or youth socials.
URL:https://mississippitheatre.org/event/mt-2025-at-the-riley-center/
ATTACH;FMTTYPE=image/png:https://mississippitheatre.org/wp-content/uploads/2024/05/MTA-2024-Facebook-Cover-15.png
END:VEVENT
END:VCALENDAR