BEGIN:VCALENDAR
VERSION:2.0
PRODID:-//Mississippi Theatre Association - ECPv6.15.12.2//NONSGML v1.0//EN
CALSCALE:GREGORIAN
METHOD:PUBLISH
X-ORIGINAL-URL:https://mississippitheatre.org
X-WR-CALDESC:Events for Mississippi Theatre Association
REFRESH-INTERVAL;VALUE=DURATION:PT1H
X-Robots-Tag:noindex
X-PUBLISHED-TTL:PT1H
BEGIN:VTIMEZONE
TZID:America/Chicago
BEGIN:DAYLIGHT
TZOFFSETFROM:-0600
TZOFFSETTO:-0500
TZNAME:CDT
DTSTART:20230312T080000
END:DAYLIGHT
BEGIN:STANDARD
TZOFFSETFROM:-0500
TZOFFSETTO:-0600
TZNAME:CST
DTSTART:20231105T070000
END:STANDARD
BEGIN:DAYLIGHT
TZOFFSETFROM:-0600
TZOFFSETTO:-0500
TZNAME:CDT
DTSTART:20240310T080000
END:DAYLIGHT
BEGIN:STANDARD
TZOFFSETFROM:-0500
TZOFFSETTO:-0600
TZNAME:CST
DTSTART:20241103T070000
END:STANDARD
BEGIN:DAYLIGHT
TZOFFSETFROM:-0600
TZOFFSETTO:-0500
TZNAME:CDT
DTSTART:20250309T080000
END:DAYLIGHT
BEGIN:STANDARD
TZOFFSETFROM:-0500
TZOFFSETTO:-0600
TZNAME:CST
DTSTART:20251102T070000
END:STANDARD
END:VTIMEZONE
BEGIN:VEVENT
DTSTART;TZID=America/Chicago:20241001T080000
DTEND;TZID=America/Chicago:20241218T170000
DTSTAMP:20260423T173113
CREATED:20240906T143406Z
LAST-MODIFIED:20241001T014548Z
UID:4721-1727769600-1734541200@mississippitheatre.org
SUMMARY:Register for MTA 2025
DESCRIPTION:Exciting News! MTA 2025 Registration is Now Open! \n\n\n\nBefore you dive in\, be sure to check out all the details here: https://mississippitheatre.org/registration/ \n\n\n\n*Don’t forget to watch the instructional videos for each category. These resources are created to guide you through the process smoothly. \n\n\n\nIf you have any questions\, feel free to reach out to your MTA division chairs for assistance. \n\n\n\nWhen you’re ready to sign up\, head over to: https://mississippitheatre.ludus.com/
URL:https://mississippitheatre.org/event/register-for-mta-2025/
END:VEVENT
BEGIN:VEVENT
DTSTART;TZID=America/Chicago:20241001T080000
DTEND;TZID=America/Chicago:20241218T170000
DTSTAMP:20260423T173113
CREATED:20240929T225153Z
LAST-MODIFIED:20240929T225746Z
UID:4816-1727769600-1734541200@mississippitheatre.org
SUMMARY:MTA 2025 Registration Opens
DESCRIPTION:To register for MTA 2025\, visit LUDUS.  \n\n\n\nFor detailed instructions for individuals and organizations\, visit https://mississippitheatre.org/registration
URL:https://mississippitheatre.org/event/mta-2025-registration-opens/
END:VEVENT
BEGIN:VEVENT
DTSTART;TZID=America/Chicago:20241218T080000
DTEND;TZID=America/Chicago:20241218T170000
DTSTAMP:20260423T173113
CREATED:20241211T151241Z
LAST-MODIFIED:20241211T152422Z
UID:5046-1734508800-1734541200@mississippitheatre.org
SUMMARY:MTA 2025 Registration Closes
DESCRIPTION:MTA 2025 Registration Closes on December 18th\, 2024.  \n\n\n\nRegistration
URL:https://mississippitheatre.org/event/mta-2025-registration-closes/
ATTACH;FMTTYPE=image/jpeg:https://mississippitheatre.org/wp-content/uploads/2024/12/MTA-Videos-4-1.jpg
END:VEVENT
END:VCALENDAR