BEGIN:VCALENDAR
VERSION:2.0
PRODID:-//Mississippi Theatre Association - ECPv6.15.12.2//NONSGML v1.0//EN
CALSCALE:GREGORIAN
METHOD:PUBLISH
X-WR-CALNAME:Mississippi Theatre Association
X-ORIGINAL-URL:https://mississippitheatre.org
X-WR-CALDESC:Events for Mississippi Theatre Association
REFRESH-INTERVAL;VALUE=DURATION:PT1H
X-Robots-Tag:noindex
X-PUBLISHED-TTL:PT1H
BEGIN:VTIMEZONE
TZID:America/Chicago
BEGIN:DAYLIGHT
TZOFFSETFROM:-0600
TZOFFSETTO:-0500
TZNAME:CDT
DTSTART:20230312T080000
END:DAYLIGHT
BEGIN:STANDARD
TZOFFSETFROM:-0500
TZOFFSETTO:-0600
TZNAME:CST
DTSTART:20231105T070000
END:STANDARD
BEGIN:DAYLIGHT
TZOFFSETFROM:-0600
TZOFFSETTO:-0500
TZNAME:CDT
DTSTART:20240310T080000
END:DAYLIGHT
BEGIN:STANDARD
TZOFFSETFROM:-0500
TZOFFSETTO:-0600
TZNAME:CST
DTSTART:20241103T070000
END:STANDARD
BEGIN:DAYLIGHT
TZOFFSETFROM:-0600
TZOFFSETTO:-0500
TZNAME:CDT
DTSTART:20250309T080000
END:DAYLIGHT
BEGIN:STANDARD
TZOFFSETFROM:-0500
TZOFFSETTO:-0600
TZNAME:CST
DTSTART:20251102T070000
END:STANDARD
END:VTIMEZONE
BEGIN:VEVENT
DTSTART;TZID=America/Chicago:20240913T080000
DTEND;TZID=America/Chicago:20241001T170000
DTSTAMP:20260422T014058
CREATED:20240906T140410Z
LAST-MODIFIED:20240909T143236Z
UID:4716-1726214400-1727802000@mississippitheatre.org
SUMMARY:Submit Your DramaFest Letter of Intent
DESCRIPTION:DramaFest Letter of Intent\n\n\n\nGet ready to fill out your DramaFest 2024 Letter of Intent. We will be open to receive submissions starting September 13\, 2024 at 8:00 a.m. By submitting this form\, you indicate your intention to register as a performing school at a Mississippi Regional DramaFest this year. \n\n\n\n\nhttps://www.jotform.com/form/241965575876173
URL:https://mississippitheatre.org/event/submit-your-dramafest-letter-of-intent-2/
END:VEVENT
BEGIN:VEVENT
DTSTART;TZID=America/Chicago:20240920T120000
DTEND;TZID=America/Chicago:20240920T170000
DTSTAMP:20260422T014058
CREATED:20240812T162131Z
LAST-MODIFIED:20240813T022041Z
UID:4606-1726833600-1726851600@mississippitheatre.org
SUMMARY:MTA Fall Workshop
DESCRIPTION:A full schedule will be posted prior to the workshop\, but here is a list of some of the sessions! \n\n\n\nhttps://mississippitheatre.ludus.com/show_page.php?show_id=200460426 \n\n\n\nIf you are traveling for the MTA workshop\, make sure to use this link to book your hotel at the special group rate (Last Day to Book: Friday\, September 6\, 2024): https://www.marriott.com/event-reservations/reservation-link.mi?id=1723481804543&key=GRP&app=resvlink
URL:https://mississippitheatre.org/event/mta-fall-workshop/
ATTACH;FMTTYPE=image/png:https://mississippitheatre.org/wp-content/uploads/2024/08/Screenshot-2024-08-12-at-10.53.43-AM.png
END:VEVENT
END:VCALENDAR