BEGIN:VCALENDAR
VERSION:2.0
PRODID:-//Mississippi Theatre Association - ECPv6.15.12.2//NONSGML v1.0//EN
CALSCALE:GREGORIAN
METHOD:PUBLISH
X-ORIGINAL-URL:https://mississippitheatre.org
X-WR-CALDESC:Events for Mississippi Theatre Association
REFRESH-INTERVAL;VALUE=DURATION:PT1H
X-Robots-Tag:noindex
X-PUBLISHED-TTL:PT1H
BEGIN:VTIMEZONE
TZID:America/Chicago
BEGIN:DAYLIGHT
TZOFFSETFROM:-0600
TZOFFSETTO:-0500
TZNAME:CDT
DTSTART:20210314T080000
END:DAYLIGHT
BEGIN:STANDARD
TZOFFSETFROM:-0500
TZOFFSETTO:-0600
TZNAME:CST
DTSTART:20211107T070000
END:STANDARD
BEGIN:DAYLIGHT
TZOFFSETFROM:-0600
TZOFFSETTO:-0500
TZNAME:CDT
DTSTART:20220313T080000
END:DAYLIGHT
BEGIN:STANDARD
TZOFFSETFROM:-0500
TZOFFSETTO:-0600
TZNAME:CST
DTSTART:20221106T070000
END:STANDARD
BEGIN:DAYLIGHT
TZOFFSETFROM:-0600
TZOFFSETTO:-0500
TZNAME:CDT
DTSTART:20230312T080000
END:DAYLIGHT
BEGIN:STANDARD
TZOFFSETFROM:-0500
TZOFFSETTO:-0600
TZNAME:CST
DTSTART:20231105T070000
END:STANDARD
END:VTIMEZONE
BEGIN:VEVENT
DTSTART;TZID=America/Chicago:20220401T080000
DTEND;TZID=America/Chicago:20221101T170000
DTSTAMP:20260425T111018
CREATED:20220330T185702Z
LAST-MODIFIED:20220330T192431Z
UID:2175-1648800000-1667322000@mississippitheatre.org
SUMMARY:MTA Playwriting Competition Submissions
DESCRIPTION:Playwriting Competition\n\n\n\nThe MTA Playwriting Competitions are designed to recognize and promote the works of Mississippi playwrights and are open to all writers currently located in Mississippi. \n\n\n\nWinners in the Adult and Youth competitions receive staged readings at the MTA Festival and cash prizes–$500 for Adult winners\, $250 for Youth winners. \n\n\n\nSubmissions are accepted from April 1\, 2022\, until October 1\, 2022. \n\n\n\nFor questions\, contact Tonya Hays\, Youth Playwriting Chair\, or Sarah Grammar\, Adult Playwriting Chair. \n\n\n\nPlaywriting Contest Guidelines\n\n\n\nSubmit original works HERE\n\n\n\nPlaywriting – 10 Days to Play Resource
URL:https://mississippitheatre.org/event/2023-annual-statewide-festival/
ATTACH;FMTTYPE=image/png:https://mississippitheatre.org/wp-content/uploads/2021/09/MTA-Side-Bar-15.png
END:VEVENT
BEGIN:VEVENT
DTSTART;TZID=America/Chicago:20220517T193000
DTEND;TZID=America/Chicago:20220521T193000
DTSTAMP:20260425T111018
CREATED:20220516T223812Z
LAST-MODIFIED:20220516T225116Z
UID:2224-1652815800-1653161400@mississippitheatre.org
SUMMARY:The Legend of Georgia McBride
DESCRIPTION:The funny\, heartwarming comedy centers on Casey\, a young\, broke would-be-songwriter in small-town Florida\, who finds out his wife is pregnant just as he loses his job as an Elvis impersonator at the local bar. When the club-owner brings in a B-level drag show to boost attendance\, Casey\, desperate for cash\, gets an unexpected shot at stardom- and if he truly wants to man up for his wife and child\, he’d better learn how to walk comfortably in high heels.
URL:https://mississippitheatre.org/event/the-legend-of-georgia-mcbride/
ORGANIZER;CN="Starkville Community Theatre":MAILTO:exec@sct-online.org
END:VEVENT
END:VCALENDAR