BEGIN:VCALENDAR
VERSION:2.0
PRODID:-//Mississippi Theatre Association - ECPv6.15.12.2//NONSGML v1.0//EN
CALSCALE:GREGORIAN
METHOD:PUBLISH
X-ORIGINAL-URL:https://mississippitheatre.org
X-WR-CALDESC:Events for Mississippi Theatre Association
REFRESH-INTERVAL;VALUE=DURATION:PT1H
X-Robots-Tag:noindex
X-PUBLISHED-TTL:PT1H
BEGIN:VTIMEZONE
TZID:America/Chicago
BEGIN:DAYLIGHT
TZOFFSETFROM:-0600
TZOFFSETTO:-0500
TZNAME:CDT
DTSTART:20200308T080000
END:DAYLIGHT
BEGIN:STANDARD
TZOFFSETFROM:-0500
TZOFFSETTO:-0600
TZNAME:CST
DTSTART:20201101T070000
END:STANDARD
BEGIN:DAYLIGHT
TZOFFSETFROM:-0600
TZOFFSETTO:-0500
TZNAME:CDT
DTSTART:20210314T080000
END:DAYLIGHT
BEGIN:STANDARD
TZOFFSETFROM:-0500
TZOFFSETTO:-0600
TZNAME:CST
DTSTART:20211107T070000
END:STANDARD
BEGIN:DAYLIGHT
TZOFFSETFROM:-0600
TZOFFSETTO:-0500
TZNAME:CDT
DTSTART:20220313T080000
END:DAYLIGHT
BEGIN:STANDARD
TZOFFSETFROM:-0500
TZOFFSETTO:-0600
TZNAME:CST
DTSTART:20221106T070000
END:STANDARD
END:VTIMEZONE
BEGIN:VEVENT
DTSTART;TZID=America/Chicago:20211001T000000
DTEND;TZID=America/Chicago:20211001T235959
DTSTAMP:20260423T173019
CREATED:20210927T145118Z
LAST-MODIFIED:20220208T164521Z
UID:1818-1633046400-1633132799@mississippitheatre.org
SUMMARY:MTA Playwriting Contest Deadline
DESCRIPTION:Call for original scripts for MTA Playwriting Contest for secondary students and adults! Submit original scripts by October 1 for the MTA 2022 Festival! See the Registration page for more details
URL:https://mississippitheatre.org/event/mta-playwriting-contest-deadline/
ATTACH;FMTTYPE=image/png:https://mississippitheatre.org/wp-content/uploads/2021/09/MTA-Side-Bar-15.png
END:VEVENT
END:VCALENDAR